BEGIN:VCALENDAR
VERSION:2.0
PRODID:-//OmniMagnetCalendar//EN
BEGIN:VEVENT
DTSTAMP:20190625T195740Z
STATUS:CONFIRMED
UID:dc.illiniclub.org903
DTSTART:20250927T160000Z
DTEND:20250927T200000Z
LOCATION:Astro Beer Hall - DC, 1306 G St NW, Washington, DC, 20005,
SUMMARY:DC Illini: Illinois vs. USC "Joint" Game Watch [Astro DC]
DESCRIPTION:Let's forget about last week... Please join us at Astro DC as the Illini take on USC.  Because Astro DC is also the game watch location for the local USC club, we will have a joint gamewatch with the USC club.
BEGIN:VALARM
TRIGGER:-PT15M
ACTION:DISPLAY
END:VALARM
TRANSP:OPAQUE
END:VEVENT
END:VCALENDAR
