BEGIN:VCALENDAR
VERSION:2.0
PRODID:-//OmniMagnetCalendar//EN
BEGIN:VEVENT
DTSTAMP:20190625T195740Z
STATUS:CONFIRMED
UID:dc.illiniclub.org921
DTSTART:20260205T233000Z
DTEND:20260205T233000Z
LOCATION:The Admiral, 1 DuPont Circle NW, Washington, DC, 20036,
SUMMARY:DC Illini: Spring Networking Event
DESCRIPTION:This event will be focused on Targeted Industry Connections.  Meet with fellow U of I alumni who work in your specific industry or professional sector during dedicated small-group discussions. Get your tickets now!
BEGIN:VALARM
TRIGGER:-PT15M
ACTION:DISPLAY
END:VALARM
TRANSP:OPAQUE
END:VEVENT
END:VCALENDAR
