BEGIN:VCALENDAR
VERSION:2.0
PRODID:-//OmniMagnetCalendar//EN
BEGIN:VEVENT
DTSTAMP:20190625T195740Z
STATUS:CONFIRMED
UID:dc.illiniclub.org926
DTSTART:20260304T234500Z
DTEND:20260305T014500Z
LOCATION:metrobar, 640 Rhode Island Ave NE, Washington, DC, 20002, USA,
SUMMARY:Trivia Night [DC]
DESCRIPTION:Young Alumni Outreach Event: Join us for trivia night to welcome new Illini to the area and play some trivia!  All are welcome--whether you’re a recent grad, longtime alum, or current student spending time in the DC area.
BEGIN:VALARM
TRIGGER:-PT15M
ACTION:DISPLAY
END:VALARM
TRANSP:OPAQUE
END:VEVENT
END:VCALENDAR
