BEGIN:VCALENDAR
VERSION:2.0
PRODID:-//OmniMagnetCalendar//EN
BEGIN:VEVENT
DTSTAMP:20190625T195740Z
STATUS:CONFIRMED
UID:dc.illiniclub.org927
DTSTART:20260414T220000Z
DTEND:20260415T000000Z
LOCATION:Rooftop Terrace, 101 Constitution Ave NW, Washington, DC, 20001,
SUMMARY:U of I System Leadership in DC for "Altogether Extraordinary in D.C." (Spring 2026)
DESCRIPTION:The U of I System President and system leadership for the three campuses will be on Capitol Hill for a reception to celebrate the University's partnerships with the Illinois congressional delegation.  This is a great networking opportunity!
BEGIN:VALARM
TRIGGER:-PT15M
ACTION:DISPLAY
END:VALARM
TRANSP:OPAQUE
END:VEVENT
END:VCALENDAR
