BEGIN:VCALENDAR
VERSION:2.0
PRODID:-//OmniMagnetCalendar//EN
BEGIN:VEVENT
DTSTAMP:20190625T195740Z
STATUS:CONFIRMED
UID:dc.illiniclub.org931
DTSTART:20260429T203000Z
DTEND:20260429T220000Z
LOCATION:Senate Hart Office Building, 120 Constitution Ave NE, Washington, DC, 20002,
SUMMARY:2026 Douglas Award for Ethics in Government
DESCRIPTION:The University of Illinois System will be awarding the 2026 Douglas Award for Ethics in Government to the Honorable Richard J. Durbin, U.S. Senator of Illinois.
BEGIN:VALARM
TRIGGER:-PT15M
ACTION:DISPLAY
END:VALARM
TRANSP:OPAQUE
END:VEVENT
END:VCALENDAR
